BEGIN:VCALENDAR
VERSION:2.0
PRODID:-//wp-events-plugin.com//7.2.3.1//EN
TZID:Europe/Budapest
X-WR-TIMEZONE:Europe/Budapest
BEGIN:VEVENT
UID:53@sportoscukros.hu
DTSTART;TZID=Europe/Budapest;VALUE=DATE:20260509
DTEND;TZID=Europe/Budapest;VALUE=DATE:20260511
DTSTAMP:20260422T091414Z
URL:https://sportoscukros.hu/events/diabakademia-2026-tavasz/
SUMMARY:DiabAkadémia 2026 tavasz
DESCRIPTION:\n\nA Sportos Cukorbetegek Egyesülete 2026 májusában két na
 pos intenzív képzést tart.\n\nCéljunk az 1-es típusú diabétesszel 
 élő felnőttek és diabéteszes gyermeket nevelő szülők számára az 
 ismeretek elmélyítése és gyakorlati készségeik fejlesztése.\n\nA pr
 ogram kifejezetten azoknak szól\, akik\n\n 	szeretnék jobban átlátni a
 z összefüggéseket\,\n 	új ismereteket tanulni\, \n 	kételyeik\, kérd
 éseik vannak\, amelyeket esetleg nem mernek feltenni a kezelőorvosuknak.
 \n\nJelentkezés és részletek: ITT\n\n
ATTACH;FMTTYPE=image/jpeg:https://i0.wp.com/sportoscukros.hu/wp-content/up
 loads/2026/04/2026-esemeny-borito-Facebook-hirdetes-13.png?fit=1200%2C628&
 ssl=1
CATEGORIES:nem sportos program felnőtteknek
LOCATION:https://maps.app.goo.gl/VRkHrNdTpQWtdtVe6
END:VEVENT
BEGIN:VTIMEZONE
TZID:Europe/Budapest
X-LIC-LOCATION:Europe/Budapest
BEGIN:DAYLIGHT
DTSTART:20260329T030000
TZOFFSETFROM:+0100
TZOFFSETTO:+0200
TZNAME:CEST
END:DAYLIGHT
END:VTIMEZONE
END:VCALENDAR